BEGIN:VCALENDAR
VERSION:2.0
PRODID:-//NAAAP Toronto//Silkstart Technology Inc.//
BEGIN:VTIMEZONE
TZID:America/Toronto
BEGIN:DAYLIGHT
DTSTART;VALUE=DATE-TIME:20260308T020000
TZNAME:EDT
TZOFFSETFROM:-0500
TZOFFSETTO:-0400
END:DAYLIGHT
BEGIN:STANDARD
DTSTART;VALUE=DATE-TIME:20261101T020000
TZNAME:EST
TZOFFSETFROM:-0400
TZOFFSETTO:-0500
END:STANDARD
END:VTIMEZONE
BEGIN:VEVENT
SUMMARY:2026 Aspire to Lead Summit
DTSTART;TZID=America/Toronto;VALUE=DATE-TIME:20260515T080000
DTEND;TZID=America/Toronto;VALUE=DATE-TIME:20260517T130000
DTSTAMP;VALUE=DATE-TIME:20260408T194721
UID:69d6b0c91995c705ded59354
DESCRIPTION: The Aspire to Lead Summit is Canada&rsquo\;s national forum 
 dedicated to advancing Chinese Canadian leadership and civic engagement. 
 With three powerful themes of &ldquo\;Chinese Canadian Leadership\, 
 Belonging\, and the Future We Shape\,&rdquo\; the 2026 Summit is an 
 extraordinary opportunity to be part of a movement that is focused on 
 strengthening representation\, building belonging\, and shaping the future
  of an equitable Canada. Hosted with the generous support of the 
 University of Waterloo\, the summit program is presented over 3 high 
 impact days: May 15 &mdash\; Chinese Canadian Leadership: Keynotes\, 
 panels and table discussions on the current state and future of Chinese 
 Canadian leadership May 16 &mdash\; Belonging: Exploring identity\, truth 
 and reconciliation\, civic action\, and what belonging looks like for 
 Chinese Canadians today May 17 &mdash\; The Future We Shape: Strengths in 
 Canada&rsquo\;s global economy\, pathways to leadership\, and commitments 
 to action Join hundreds of established and emerging leaders from across 
 government\, business\, academia\, nonprofit\, community and 
 entrepreneurship to foster cross sector collaboration\, elevate Chinese 
 Canadian voices in decision making spaces\, and translate dialogue into 
 tangible pathways for public participation\, governance\, and 
 institutional leadership. Aspire to Lead is more than a conference. It is 
 a catalyst for national leadership advancement and a cornerstone 
 initiative in strengthening representation\, belonging\, and civic 
 participation for Chinese Canadians across the country. NAAAP Members are 
 eligible for a limited 10% discount promo code to register. Contact\; 
 member.services@naaaptoronto.org 
LOCATION:University of Waterloo\, 200 University Ave W\, Waterloo\, ON N2L 
 3G1
PRIORITY:5
URL:https://naaap-toronto.silkstart.com:443/events/aspire-to-lead-summit
END:VEVENT
END:VCALENDAR
